BEGIN:VCALENDAR
VERSION:2.0
METHOD:PUBLISH
PRODID:-//Telerik Inc.//Sitefinity CMS 15.1//EN
BEGIN:VTIMEZONE
TZID:Eastern Standard Time
BEGIN:STANDARD
DTSTART:20251102T020000
RRULE:FREQ=YEARLY;BYDAY=1SU;BYHOUR=2;BYMINUTE=0;BYMONTH=11
TZNAME:Eastern Standard Time
TZOFFSETFROM:-0400
TZOFFSETTO:-0500
END:STANDARD
BEGIN:DAYLIGHT
DTSTART:20250301T020000
RRULE:FREQ=YEARLY;BYDAY=2SU;BYHOUR=2;BYMINUTE=0;BYMONTH=3
TZNAME:Eastern Daylight Time
TZOFFSETFROM:-0500
TZOFFSETTO:-0400
END:DAYLIGHT
END:VTIMEZONE
BEGIN:VEVENT
DESCRIPTION:Join ALCOSAN for a day of fun and find out how the Sheraden Com
 munity is flipping the script on aging!4:00 pm to 7:00 pm&nbsp\;Sheraden H
 al Senior Center720 Sherwood Street Pittsburgh\, PA 15204
DTEND:20260501T230000Z
DTSTAMP:20260424T163146Z
DTSTART:20260501T200000Z
LOCATION:PA\,Pittsburgh\,720 Sherwood Street
SEQUENCE:0
SUMMARY:Sheraden Open House
UID:RFCALITEM639126307061016130
X-ALT-DESC;FMTTYPE=text/html:<p>Join ALCOSAN for a day of fun and find out 
 how the Sheraden Community is flipping the script on aging!</p><div>4:00 p
 m to 7:00 pm&nbsp\;</div><div><p>Sheraden Hal Senior Center<br />720 Sherw
 ood Street Pittsburgh\, PA 15204</p></div>
END:VEVENT
END:VCALENDAR
